BEGIN:VCALENDAR
VERSION:2.0
PRODID:-//La Pirogue Créations - ECPv6.15.17//NONSGML v1.0//EN
CALSCALE:GREGORIAN
METHOD:PUBLISH
X-WR-CALNAME:La Pirogue Créations
X-ORIGINAL-URL:https://lapirogue-creations.com
X-WR-CALDESC:Évènements pour La Pirogue Créations
REFRESH-INTERVAL;VALUE=DURATION:PT1H
X-Robots-Tag:noindex
X-PUBLISHED-TTL:PT1H
BEGIN:VTIMEZONE
TZID:Europe/Paris
BEGIN:DAYLIGHT
TZOFFSETFROM:+0100
TZOFFSETTO:+0200
TZNAME:CEST
DTSTART:20230326T010000
END:DAYLIGHT
BEGIN:STANDARD
TZOFFSETFROM:+0200
TZOFFSETTO:+0100
TZNAME:CET
DTSTART:20231029T010000
END:STANDARD
BEGIN:DAYLIGHT
TZOFFSETFROM:+0100
TZOFFSETTO:+0200
TZNAME:CEST
DTSTART:20240331T010000
END:DAYLIGHT
BEGIN:STANDARD
TZOFFSETFROM:+0200
TZOFFSETTO:+0100
TZNAME:CET
DTSTART:20241027T010000
END:STANDARD
BEGIN:DAYLIGHT
TZOFFSETFROM:+0100
TZOFFSETTO:+0200
TZNAME:CEST
DTSTART:20250330T010000
END:DAYLIGHT
BEGIN:STANDARD
TZOFFSETFROM:+0200
TZOFFSETTO:+0100
TZNAME:CET
DTSTART:20251026T010000
END:STANDARD
END:VTIMEZONE
BEGIN:VEVENT
DTSTART;TZID=Europe/Paris:20241001T080000
DTEND;TZID=Europe/Paris:20241006T170000
DTSTAMP:20260419T203323
CREATED:20240814T142246Z
LAST-MODIFIED:20240814T142624Z
UID:12756-1727769600-1728234000@lapirogue-creations.com
SUMMARY:CHAMPIONNATS DU MONDE D'AGILITY BELGIQUE
DESCRIPTION:
URL:https://lapirogue-creations.com/evenement/championnats-du-monde-dagility-belgique/
CATEGORIES:Concours agility
END:VEVENT
BEGIN:VEVENT
DTSTART;VALUE=DATE:20240907
DTEND;VALUE=DATE:20240909
DTSTAMP:20260419T203323
CREATED:20240814T131601Z
LAST-MODIFIED:20240814T142453Z
UID:12750-1725667200-1725839999@lapirogue-creations.com
SUMMARY:Concours agility Criquebeuf sur Seine (27)
DESCRIPTION:
URL:https://lapirogue-creations.com/evenement/concours-agility-criquebeuf-sur-seine/
LOCATION:Criquebeuf sur seine\, France
CATEGORIES:Concours agility
END:VEVENT
BEGIN:VEVENT
DTSTART;VALUE=DATE:20240814
DTEND;VALUE=DATE:20240818
DTSTAMP:20260419T203323
CREATED:20240618T070724Z
LAST-MODIFIED:20240618T070724Z
UID:12494-1723593600-1723939199@lapirogue-creations.com
SUMMARY:VERY Breizh CUP
DESCRIPTION:
URL:https://lapirogue-creations.com/evenement/very-breizh-cup/
LOCATION:Bourgbarré\, Bourgbarré\, 35230\, France
CATEGORIES:Concours agility
END:VEVENT
BEGIN:VEVENT
DTSTART;VALUE=DATE:20240706
DTEND;VALUE=DATE:20240708
DTSTAMP:20260419T203323
CREATED:20240618T070030Z
LAST-MODIFIED:20240618T070030Z
UID:12484-1720224000-1720396799@lapirogue-creations.com
SUMMARY:Final trophée par équipe
DESCRIPTION:
URL:https://lapirogue-creations.com/evenement/final-trophee-par-equipe/
LOCATION:Ham\, HAM\, France
CATEGORIES:Concours agility
END:VEVENT
BEGIN:VEVENT
DTSTART;VALUE=DATE:20240622
DTEND;VALUE=DATE:20240624
DTSTAMP:20260419T203323
CREATED:20240618T214827Z
LAST-MODIFIED:20240618T214827Z
UID:12580-1719014400-1719187199@lapirogue-creations.com
SUMMARY:Concours Divatte sur Loire
DESCRIPTION:
URL:https://lapirogue-creations.com/evenement/concours-divatte-sur-loire/
LOCATION:Divatte sur Loire\, Divatte sur Loire\, France
CATEGORIES:Concours agility
END:VEVENT
END:VCALENDAR